BEGIN:VCALENDAR
VERSION:2.0
PRODID:http://www.infomax-online.de/imxeventmanager/
METHOD:PUBLISH
BEGIN:VTIMEZONE
TZID:Europe/Berlin
TZURL:http://tzurl.org/zoneinfo-outlook/Europe/Berlin
X-LIC-LOCATION:Europe/Berlin
END:VTIMEZONE
BEGIN:VEVENT
UID:69ed6a77eb25b
LOCATION:Am Strandbad 1, 83373 Taching am See
SUMMARY;ENCODING=QUOTED-PRINTABLE:Pflanzenmarkt
DESCRIPTION;ENCODING=QUOTED-PRINTABLE:Pflanzenmarkt am Strandbad Taching
URL;VALUE=URI:https://irs18whl.infomax.online/waging-newtab/e-pflanzentauschmarkt-2?eventDateId=2072040&widgetToken=d8Syl0zncic.&
CLASS:PUBLIC
DTSTART:20260502T120000
DTSTAMP:20260426T032927
END:VEVENT
END:VCALENDAR