BEGIN:VCALENDAR
VERSION:2.0
PRODID:http://www.infomax-online.de/imxeventmanager/
METHOD:PUBLISH
BEGIN:VTIMEZONE
TZID:Europe/Berlin
TZURL:http://tzurl.org/zoneinfo-outlook/Europe/Berlin
X-LIC-LOCATION:Europe/Berlin
END:VTIMEZONE
BEGIN:VEVENT
UID:69e765ba46345
LOCATION: , 83379 Wonneberg
SUMMARY;ENCODING=QUOTED-PRINTABLE:Leada Maibaumaufstellen
DESCRIPTION;ENCODING=QUOTED-PRINTABLE:Maibaumaufstellen am Dorfplatz
URL;VALUE=URI:https://irs18whl.infomax.online/waging-newtab/e-maibaumaufstellen-st-leonhard?eventDateId=2071507&widgetToken=d8Syl0zncic.&
CLASS:PUBLIC
DTSTART:20260501T120000
DTSTAMP:20260421T135538
END:VEVENT
END:VCALENDAR