BEGIN:VCALENDAR
VERSION:2.0
PRODID:http://www.infomax-online.de/imxeventmanager/
METHOD:PUBLISH
BEGIN:VTIMEZONE
TZID:Europe/Berlin
TZURL:http://tzurl.org/zoneinfo-outlook/Europe/Berlin
X-LIC-LOCATION:Europe/Berlin
END:VTIMEZONE
BEGIN:VEVENT
UID:69ec391fc3e25
LOCATION:Stadtplatz 35, 84529 Tittmoning
SUMMARY;ENCODING=QUOTED-PRINTABLE:Kabarett der Heimatbühne
DESCRIPTION;ENCODING=QUOTED-PRINTABLE:Sch(m)erzgrenzen - Kabarett der Haimatbühne Tittmoning
URL;VALUE=URI:https://irs18whl.infomax.online/waging-newtab/e-bienenstiche?eventDateId=2061555&widgetToken=d8Syl0zncic.&
CLASS:PUBLIC
DTSTART:20260517T190000
DTSTAMP:20260425T054639
END:VEVENT
END:VCALENDAR