BEGIN:VCALENDAR
VERSION:2.0
PRODID:http://www.infomax-online.de/imxeventmanager/
METHOD:PUBLISH
BEGIN:VTIMEZONE
TZID:Europe/Berlin
TZURL:http://tzurl.org/zoneinfo-outlook/Europe/Berlin
X-LIC-LOCATION:Europe/Berlin
END:VTIMEZONE
BEGIN:VEVENT
UID:69e9dced20465
LOCATION:Rupertistraße , 83413 Fridolfing
SUMMARY;ENCODING=QUOTED-PRINTABLE:Fridolfinger Dorffest
DESCRIPTION;ENCODING=QUOTED-PRINTABLE:Beim "etwas anderen Dorffest" erwartet die Besucher außergewöhnliche=0D=0AArtistik, Clownerie und verschiedene Musikensembles.
URL;VALUE=URI:https://irs18whl.infomax.online/waging-newtab/e-fridolfinger-dorffest-4?eventDateId=2041714&widgetToken=d8Syl0zncic.&
CLASS:PUBLIC
DTSTART:20260718T180000
DTSTAMP:20260423T104845
END:VEVENT
END:VCALENDAR