BEGIN:VCALENDAR
VERSION:2.0
PRODID:http://www.infomax-online.de/imxeventmanager/
METHOD:PUBLISH
BEGIN:VTIMEZONE
TZID:Europe/Berlin
TZURL:http://tzurl.org/zoneinfo-outlook/Europe/Berlin
X-LIC-LOCATION:Europe/Berlin
END:VTIMEZONE
BEGIN:VEVENT
UID:69e7389dac8b4
LOCATION:Burg 5, 84529 Tittmoning
SUMMARY;ENCODING=QUOTED-PRINTABLE:Öffentliche Museumsführung
DESCRIPTION;ENCODING=QUOTED-PRINTABLE:Führung durch alle Räume des Museums mit einem Gästeführer.=0D=0AGeschichten über das Leben und die Leute, die auf der Burg Tittmoning=0D=0Agelebt haben. Kasse im Gerbereimuseum im Getreidekasten der Burg=0D=0ATittmoning.
URL;VALUE=URI:https://irs18whl.infomax.online/waging-newtab/e-oeffentliche-museumsfuehrung?eventDateId=2030661&widgetToken=d8Syl0zncic.&
CLASS:PUBLIC
DTSTART:20260502T140000
DTSTAMP:20260421T104309
END:VEVENT
END:VCALENDAR