BEGIN:VCALENDAR
VERSION:2.0
PRODID:http://www.infomax-online.de/imxeventmanager/
METHOD:PUBLISH
BEGIN:VTIMEZONE
TZID:Europe/Berlin
TZURL:http://tzurl.org/zoneinfo-outlook/Europe/Berlin
X-LIC-LOCATION:Europe/Berlin
END:VTIMEZONE
BEGIN:VEVENT
UID:69e781ab3b03a
LOCATION:Burg 5, 84529 Tittmoning
SUMMARY;ENCODING=QUOTED-PRINTABLE:Sonderführungen durch das Museum Rupertwinkel
DESCRIPTION;ENCODING=QUOTED-PRINTABLE:Besondere Fürhungen jeden 1. Sonntag im Monat
URL;VALUE=URI:https://irs18whl.infomax.online/waging-newtab/e-sonderfuehrungen-durch-das-museum-rupertwinkel?eventDateId=2023878&widgetToken=d8Syl0zncic.&
CLASS:PUBLIC
DTSTART:20260503T110000
DTSTAMP:20260421T155451
END:VEVENT
END:VCALENDAR