BEGIN:VCALENDAR
VERSION:2.0
PRODID:http://www.infomax-online.de/imxeventmanager/
METHOD:PUBLISH
BEGIN:VTIMEZONE
TZID:Europe/Berlin
TZURL:http://tzurl.org/zoneinfo-outlook/Europe/Berlin
X-LIC-LOCATION:Europe/Berlin
END:VTIMEZONE
BEGIN:VEVENT
UID:69ea30174b10d
LOCATION: , 83329 Waging am See
SUMMARY;ENCODING=QUOTED-PRINTABLE:Martinimarkt
DESCRIPTION;ENCODING=QUOTED-PRINTABLE:Martinimarkt mit zahlreichen Fierantenständen im Ortskern von Waging=0D=0Aam See.
URL;VALUE=URI:https://irs18whl.infomax.online/waging-newtab/e-martinimarkt-1?eventDateId=2022302&widgetToken=d8Syl0zncic.&
CLASS:PUBLIC
DTSTART:20261108T110000
DTSTAMP:20260423T164335
END:VEVENT
END:VCALENDAR