BEGIN:VCALENDAR
VERSION:2.0
PRODID:http://www.infomax-online.de/imxeventmanager/
METHOD:PUBLISH
BEGIN:VTIMEZONE
TZID:Europe/Berlin
TZURL:http://tzurl.org/zoneinfo-outlook/Europe/Berlin
X-LIC-LOCATION:Europe/Berlin
END:VTIMEZONE
BEGIN:VEVENT
UID:69e52530b1f1e
LOCATION:Rathausplatz 2, 83417 Kirchanschöring
SUMMARY;ENCODING=QUOTED-PRINTABLE:Klimafreundlich im Alltag
DESCRIPTION;ENCODING=QUOTED-PRINTABLE:Komm vorbei und erfahre bei unseren kostenfreien Veranstaltungen, wie=0D=0Adu klimafreundliches Verhalten einfach und leicht in deinen Alltag=0D=0Aintegrieren kannst.
URL;VALUE=URI:https://irs18whl.infomax.online/waging-newtab/e-klimafreundlich-im-alltag?eventDateId=2014608&widgetToken=d8Syl0zncic.&
CLASS:PUBLIC
DTSTART:20260428T180000
DTSTAMP:20260419T205544
END:VEVENT
END:VCALENDAR