BEGIN:VCALENDAR
VERSION:2.0
PRODID:http://www.infomax-online.de/imxeventmanager/
METHOD:PUBLISH
BEGIN:VTIMEZONE
TZID:Europe/Berlin
TZURL:http://tzurl.org/zoneinfo-outlook/Europe/Berlin
X-LIC-LOCATION:Europe/Berlin
END:VTIMEZONE
BEGIN:VEVENT
UID:69ed6c641df3a
LOCATION:Hauptstr. 27, 83413 Fridolfing
SUMMARY;ENCODING=QUOTED-PRINTABLE:Stammtisch für Old-Youngtimer Freunde
DESCRIPTION;ENCODING=QUOTED-PRINTABLE:im Gasthof Gruber in Pietling
URL;VALUE=URI:https://irs18whl.infomax.online/waging-newtab/e-stammtisch-fuer-old-youngtimer-freunde-1?eventDateId=2007133&widgetToken=d8Syl0zncic.&
CLASS:PUBLIC
DTSTART:20260428T193000
DTSTAMP:20260426T033740
END:VEVENT
END:VCALENDAR