BEGIN:VCALENDAR
VERSION:2.0
PRODID:http://www.infomax-online.de/imxeventmanager/
METHOD:PUBLISH
BEGIN:VTIMEZONE
TZID:Europe/Berlin
TZURL:http://tzurl.org/zoneinfo-outlook/Europe/Berlin
X-LIC-LOCATION:Europe/Berlin
END:VTIMEZONE
BEGIN:VEVENT
UID:69ed6a7c358dd
LOCATION:Fasanenweg 6, 83413 Fridolfing
SUMMARY;ENCODING=QUOTED-PRINTABLE:Imkerstammtisch
DESCRIPTION;ENCODING=QUOTED-PRINTABLE:Treffen der Imker im Dorfstüberl Götzing
URL;VALUE=URI:https://irs18whl.infomax.online/waging-newtab/e-imkerstammtisch?eventDateId=1999280&widgetToken=d8Syl0zncic.&
CLASS:PUBLIC
DTSTART:20260504T190000
DTSTAMP:20260426T032932
END:VEVENT
END:VCALENDAR