BEGIN:VCALENDAR
VERSION:2.0
PRODID:http://www.infomax-online.de/imxeventmanager/
METHOD:PUBLISH
BEGIN:VTIMEZONE
TZID:Europe/Berlin
TZURL:http://tzurl.org/zoneinfo-outlook/Europe/Berlin
X-LIC-LOCATION:Europe/Berlin
END:VTIMEZONE
BEGIN:VEVENT
UID:69ed6add38000
LOCATION:Marktplatz , 83329 Waging am See
SUMMARY;ENCODING=QUOTED-PRINTABLE:Heimkehrer Dank- und Friedenswallfahrt
DESCRIPTION;ENCODING=QUOTED-PRINTABLE:Wallfahrt der Krieger- und Soldatenkameradschaften.
URL;VALUE=URI:https://irs18whl.infomax.online/waging-newtab/e-heimkehrer-dank-und-friedenswallfahrt?eventDateId=1933995&widgetToken=d8Syl0zncic.&
CLASS:PUBLIC
DTSTART:20260503T140000
DTSTAMP:20260426T033109
END:VEVENT
END:VCALENDAR