BEGIN:VCALENDAR
VERSION:2.0
PRODID:http://www.infomax-online.de/imxeventmanager/
METHOD:PUBLISH
BEGIN:VTIMEZONE
TZID:Europe/Berlin
TZURL:http://tzurl.org/zoneinfo-outlook/Europe/Berlin
X-LIC-LOCATION:Europe/Berlin
END:VTIMEZONE
BEGIN:VEVENT
UID:69e7c3c9e4f20
LOCATION: , 83329 Waging am See
SUMMARY;ENCODING=QUOTED-PRINTABLE:Peter & Paul-Markt
DESCRIPTION;ENCODING=QUOTED-PRINTABLE:Markt mit zahlreichen Fierantenständen im Ortskern von Waging.
URL;VALUE=URI:https://irs18whl.infomax.online/waging-newtab/e-peter-paul-markt?eventDateId=1913265&widgetToken=d8Syl0zncic.&
CLASS:PUBLIC
DTSTART:20260628T110000
DTSTAMP:20260421T203657
END:VEVENT
END:VCALENDAR