BEGIN:VCALENDAR
VERSION:2.0
PRODID:http://www.infomax-online.de/imxeventmanager/
METHOD:PUBLISH
BEGIN:VTIMEZONE
TZID:Europe/Berlin
TZURL:http://tzurl.org/zoneinfo-outlook/Europe/Berlin
X-LIC-LOCATION:Europe/Berlin
END:VTIMEZONE
BEGIN:VEVENT
UID:69e521165ebab
LOCATION:Fasanenweg 6, 83413 Fridolfing
SUMMARY;ENCODING=QUOTED-PRINTABLE:Honigverkostung
DESCRIPTION;ENCODING=QUOTED-PRINTABLE:Imker laden ein zur Honigverkostung ins SG Dorfstüberl
URL;VALUE=URI:https://irs18whl.infomax.online/traunstein/e-honigverkostung-2?eventDateId=2067615&widgetToken=VV5JP7zDQHk.&
CLASS:PUBLIC
DTSTART:20260424T190000
DTSTAMP:20260419T203814
END:VEVENT
END:VCALENDAR