BEGIN:VCALENDAR
VERSION:2.0
PRODID:http://www.infomax-online.de/imxeventmanager/
METHOD:PUBLISH
BEGIN:VTIMEZONE
TZID:Europe/Berlin
TZURL:http://tzurl.org/zoneinfo-outlook/Europe/Berlin
X-LIC-LOCATION:Europe/Berlin
END:VTIMEZONE
BEGIN:VEVENT
UID:69e50f626668a
LOCATION:Vonfichtstraße 1, 83278 Traunstein
SUMMARY;ENCODING=QUOTED-PRINTABLE:In Gott leben wir, bewegen wir uns und sind wir (Apg 17,28) - Auf den=0D=0ASpuren einer Schöpfungsspiritualität
DESCRIPTION;ENCODING=QUOTED-PRINTABLE:Auf den Spuren einer Schöpfungsspiritualität | Anmeldung unter=0D=0Awww.campus-stmichael.de/veranstaltungen.
URL;VALUE=URI:https://irs18whl.infomax.online/traunstein/e-in-gott-leben-wir-bewegen-wir-uns-und-sind-wir-apg-1728-auf-den-spuren-einer-schoepfungssp?eventDateId=2061890&widgetToken=VV5JP7zDQHk.&
CLASS:PUBLIC
DTSTART:20260421T190000
DTSTAMP:20260419T192242
END:VEVENT
END:VCALENDAR