BEGIN:VCALENDAR
VERSION:2.0
PRODID:http://www.infomax-online.de/imxeventmanager/
METHOD:PUBLISH
BEGIN:VTIMEZONE
TZID:Europe/Berlin
TZURL:http://tzurl.org/zoneinfo-outlook/Europe/Berlin
X-LIC-LOCATION:Europe/Berlin
END:VTIMEZONE
BEGIN:VEVENT
UID:69e4c636f1db9
LOCATION:Dorfplatz , 83346 Bergen
SUMMARY;ENCODING=QUOTED-PRINTABLE:Erstkommunion in Bergen
DESCRIPTION;ENCODING=QUOTED-PRINTABLE:in der Pfarrkirche Bergen
URL;VALUE=URI:https://irs18whl.infomax.online/traunstein/e-bergen-erstkommunion?eventDateId=2041865&widgetToken=VV5JP7zDQHk.&
CLASS:PUBLIC
DTSTART:20260419T100000
DTSTAMP:20260419T141030
END:VEVENT
END:VCALENDAR