BEGIN:VCALENDAR
VERSION:2.0
PRODID:http://www.infomax-online.de/imxeventmanager/
METHOD:PUBLISH
BEGIN:VTIMEZONE
TZID:Europe/Berlin
TZURL:http://tzurl.org/zoneinfo-outlook/Europe/Berlin
X-LIC-LOCATION:Europe/Berlin
END:VTIMEZONE
BEGIN:VEVENT
UID:69e4f696d8131
LOCATION:Stadtplatz 38, 83278 Traunstein
SUMMARY;ENCODING=QUOTED-PRINTABLE:Online Einkaufen leicht gemacht für Senior*innen
DESCRIPTION;ENCODING=QUOTED-PRINTABLE:Information und Anmeldung unter 0861 9097166-0 oder=0D=0Ainfo@vhs-traunstein.de
URL;VALUE=URI:https://irs18whl.infomax.online/traunstein/e-online-einkaufen-leicht-gemacht-fuer-seniorinnen?eventDateId=2040209&widgetToken=VV5JP7zDQHk.&
CLASS:PUBLIC
DTSTART:20260421T130000
DTSTAMP:20260419T173654
END:VEVENT
END:VCALENDAR