BEGIN:VCALENDAR
VERSION:2.0
PRODID:http://www.infomax-online.de/imxeventmanager/
METHOD:PUBLISH
BEGIN:VTIMEZONE
TZID:Europe/Berlin
TZURL:http://tzurl.org/zoneinfo-outlook/Europe/Berlin
X-LIC-LOCATION:Europe/Berlin
END:VTIMEZONE
BEGIN:VEVENT
UID:69e76981b6cfc
LOCATION:Bürgerwaldstr. 7, 83278 Traunstein
SUMMARY;ENCODING=QUOTED-PRINTABLE:Offener Stammtisch der Unix-Freunde Süd-Ost-Oberbayern
DESCRIPTION;ENCODING=QUOTED-PRINTABLE:Monatliches Wirtshaustreffen mit 30 Min Vortrag. Infos unter=0D=0Awww.Unix-Freunde.mro.name.
URL;VALUE=URI:https://irs18whl.infomax.online/traunstein/e-offener-stammtisch-der-unix-freunde-sued-ost-oberbayern-1?eventDateId=2038144&widgetToken=VV5JP7zDQHk.&
CLASS:PUBLIC
DTSTART:20260420T190000
DTSTAMP:20260421T141145
END:VEVENT
END:VCALENDAR