BEGIN:VCALENDAR
VERSION:2.0
PRODID:http://www.infomax-online.de/imxeventmanager/
METHOD:PUBLISH
BEGIN:VTIMEZONE
TZID:Europe/Berlin
TZURL:http://tzurl.org/zoneinfo-outlook/Europe/Berlin
X-LIC-LOCATION:Europe/Berlin
END:VTIMEZONE
BEGIN:VEVENT
UID:69e4e7c8e9aaf
LOCATION:Am Strandbad 1, 83373 Taching am See
SUMMARY;ENCODING=QUOTED-PRINTABLE:Pflanzenmarkt
DESCRIPTION;ENCODING=QUOTED-PRINTABLE:Pflanzenmarkt am Strandbad Taching
URL;VALUE=URI:https://irs18whl.infomax.online/traunstein/e-pflanzentauschmarkt-2?eventDateId=2037352&widgetToken=VV5JP7zDQHk.&
CLASS:PUBLIC
DTSTART:20260502T110000
DTSTAMP:20260419T163344
END:VEVENT
END:VCALENDAR