BEGIN:VCALENDAR
VERSION:2.0
PRODID:http://www.infomax-online.de/imxeventmanager/
METHOD:PUBLISH
BEGIN:VTIMEZONE
TZID:Europe/Berlin
TZURL:http://tzurl.org/zoneinfo-outlook/Europe/Berlin
X-LIC-LOCATION:Europe/Berlin
END:VTIMEZONE
BEGIN:VEVENT
UID:69e7820971c71
LOCATION:Traunerstraße 1, 83278 Traunstein
SUMMARY;ENCODING=QUOTED-PRINTABLE:Von Abba bis Zappa - Rock-Cafe mit DJ José.
DESCRIPTION;ENCODING=QUOTED-PRINTABLE:Von Abba bis Zappa Musik aus den 70er und 80er Jahren zum Tanzen=0D=0Agrooven chillen und ratschen.
URL;VALUE=URI:https://irs18whl.infomax.online/traunstein/e-von-abba-bis-zappa-rock-cafe-mit-dj-jose?eventDateId=2027196&widgetToken=VV5JP7zDQHk.&
CLASS:PUBLIC
DTSTART:20260421T190000
DTSTAMP:20260421T155625
END:VEVENT
END:VCALENDAR