BEGIN:VCALENDAR
VERSION:2.0
PRODID:http://www.infomax-online.de/imxeventmanager/
METHOD:PUBLISH
BEGIN:VTIMEZONE
TZID:Europe/Berlin
TZURL:http://tzurl.org/zoneinfo-outlook/Europe/Berlin
X-LIC-LOCATION:Europe/Berlin
END:VTIMEZONE
BEGIN:VEVENT
UID:69e521cc8c49f
LOCATION:Fasanenweg 6, 83413 Fridolfing
SUMMARY;ENCODING=QUOTED-PRINTABLE:Honigverkostung
DESCRIPTION;ENCODING=QUOTED-PRINTABLE:Die Imker laden herzlich ein.
URL;VALUE=URI:https://irs18whl.infomax.online/traunstein/e-honigverkostung?eventDateId=2003435&widgetToken=VV5JP7zDQHk.&
CLASS:PUBLIC
DTSTART:20260424T180000
DTSTAMP:20260419T204116
END:VEVENT
END:VCALENDAR