BEGIN:VCALENDAR
VERSION:2.0
PRODID:http://www.infomax-online.de/imxeventmanager/
METHOD:PUBLISH
BEGIN:VTIMEZONE
TZID:Europe/Berlin
TZURL:http://tzurl.org/zoneinfo-outlook/Europe/Berlin
X-LIC-LOCATION:Europe/Berlin
END:VTIMEZONE
BEGIN:VEVENT
UID:69e4dd6091603
LOCATION:Fasanenweg 6, 83413 Fridolfing
SUMMARY;ENCODING=QUOTED-PRINTABLE:Brotbacken im Steinbackofen
DESCRIPTION;ENCODING=QUOTED-PRINTABLE:In der Dorfgemeinschaft Götzing
URL;VALUE=URI:https://irs18whl.infomax.online/traunstein/e-brotbacken-im-steinbackofen?eventDateId=1999232&widgetToken=VV5JP7zDQHk.&
CLASS:PUBLIC
DTSTART:20260418T090000
DTSTAMP:20260419T154920
END:VEVENT
END:VCALENDAR