BEGIN:VCALENDAR
VERSION:2.0
PRODID:http://www.infomax-online.de/imxeventmanager/
METHOD:PUBLISH
BEGIN:VTIMEZONE
TZID:Europe/Berlin
TZURL:http://tzurl.org/zoneinfo-outlook/Europe/Berlin
X-LIC-LOCATION:Europe/Berlin
END:VTIMEZONE
BEGIN:VEVENT
UID:69ea6a4ab6bf2
LOCATION:Ludwigstraße 10+12, 83278 Traunstein
SUMMARY;ENCODING=QUOTED-PRINTABLE:Pop Up Yoga in der Klosterkirche
DESCRIPTION;ENCODING=QUOTED-PRINTABLE:Erlebe einen besonderen Abend in der einzigartigen Atmosphäre der=0D=0AKlosterkirche Traunstein – eine Reise von körperlicher Kraft hin zu=0D=0Ainnerer Verbindung. Tickets erhältlich in der Tourist-Info=0D=0ATraunstein, beim Traunsteiner Tagblatt und online unter=0D=0Awww.kulturforumtraunstein.de/tickets.
URL;VALUE=URI:https://irs18whl.infomax.online/standard/e-pop-up-yoga-in-der-klosterkirche?eventDateId=2073349&widgetToken=5oeXeoKIovU.&
CLASS:PUBLIC
DTSTART:20260607T170000
DTSTAMP:20260423T205154
END:VEVENT
END:VCALENDAR