BEGIN:VCALENDAR
VERSION:2.0
PRODID:http://www.infomax-online.de/imxeventmanager/
METHOD:PUBLISH
BEGIN:VTIMEZONE
TZID:Europe/Berlin
TZURL:http://tzurl.org/zoneinfo-outlook/Europe/Berlin
X-LIC-LOCATION:Europe/Berlin
END:VTIMEZONE
BEGIN:VEVENT
UID:69ed30b9e91ac
LOCATION:Ebing 1, 83329 Waging
SUMMARY;ENCODING=QUOTED-PRINTABLE:Streuobstwiese im Frühling: Blüte, Wiese, Tiere
DESCRIPTION;ENCODING=QUOTED-PRINTABLE:Einladung zur Führung am Samstag, 25.04.2026 nach Ebing bei Waging
URL;VALUE=URI:https://irs18whl.infomax.online/standard/e-streuobstwiese-im-fruehling-bluete-wiese-tiere?eventDateId=2073188&widgetToken=5oeXeoKIovU.&
CLASS:PUBLIC
DTSTART:20260425T100000
DTSTAMP:20260425T232305
END:VEVENT
END:VCALENDAR