BEGIN:VCALENDAR
VERSION:2.0
PRODID:http://www.infomax-online.de/imxeventmanager/
METHOD:PUBLISH
BEGIN:VTIMEZONE
TZID:Europe/Berlin
TZURL:http://tzurl.org/zoneinfo-outlook/Europe/Berlin
X-LIC-LOCATION:Europe/Berlin
END:VTIMEZONE
BEGIN:VEVENT
UID:69ea9206e1dea
LOCATION:Papst-Benedikt-XVI.-Platz , 83278 Traunstein
SUMMARY;ENCODING=QUOTED-PRINTABLE:Workshop zum „Digitalen Monolithen”
DESCRIPTION;ENCODING=QUOTED-PRINTABLE:Zur Entwicklung von Projekten wie diesem laden der Landkreis=0D=0ATraunstein und Christof Babinsky zu einem Workshop ein. Kulturakteure=0D=0Aaus der Region können sich mit einer Konzeptidee um die Teilnahme=0D=0Abewerben.
URL;VALUE=URI:https://irs18whl.infomax.online/standard/e-workshop-digitaler-monolith?eventDateId=2072552&widgetToken=5oeXeoKIovU.&
CLASS:PUBLIC
DTSTART:20260508T150000
DTSTAMP:20260423T234126
END:VEVENT
END:VCALENDAR