BEGIN:VCALENDAR
VERSION:2.0
PRODID:http://www.infomax-online.de/imxeventmanager/
METHOD:PUBLISH
BEGIN:VTIMEZONE
TZID:Europe/Berlin
TZURL:http://tzurl.org/zoneinfo-outlook/Europe/Berlin
X-LIC-LOCATION:Europe/Berlin
END:VTIMEZONE
BEGIN:VEVENT
UID:69ed4c720ef85
LOCATION:Siegsdorfer Straße 1, 83278 Traunstein
SUMMARY;ENCODING=QUOTED-PRINTABLE:Montagsgeher Kneippverein Traunstein - Leichte Wege in und um=0D=0ATraunstein
DESCRIPTION;ENCODING=QUOTED-PRINTABLE:Rundweg Traunstein - Ost | Feste Schuhe, Stöcke, dem Wetter=0D=0Aangepasste Kleidung, Getränke und Brotzeit mitbringen. Auch=0D=0ANichtmitglieder (Unkostenbeitrag 4 € ) sind willkommen. Anmeldung=0D=0Aist nicht erforderlich.
URL;VALUE=URI:https://irs18whl.infomax.online/standard/e-montagsgeher-kneippverein-traunstein-leichte-wege-in-und-um-traunstein?eventDateId=2072421&widgetToken=5oeXeoKIovU.&
CLASS:PUBLIC
DTSTART:20260427T090000
DTSTAMP:20260426T012122
END:VEVENT
END:VCALENDAR