BEGIN:VCALENDAR
VERSION:2.0
PRODID:http://www.infomax-online.de/imxeventmanager/
METHOD:PUBLISH
BEGIN:VTIMEZONE
TZID:Europe/Berlin
TZURL:http://tzurl.org/zoneinfo-outlook/Europe/Berlin
X-LIC-LOCATION:Europe/Berlin
END:VTIMEZONE
BEGIN:VEVENT
UID:69ed7b7317ff0
LOCATION:Haywards-Heath-Weg 1, 83278 Traunstein
SUMMARY;ENCODING=QUOTED-PRINTABLE:Qigong Workshopp: Stark in den Frühling
DESCRIPTION;ENCODING=QUOTED-PRINTABLE:Infos und Anmeldung unter 0861 9097166-0 oder info@vhs-traunstein.de.
URL;VALUE=URI:https://irs18whl.infomax.online/standard/e-qigong-workshopp-stark-in-den-fruehling?eventDateId=2072420&widgetToken=5oeXeoKIovU.&
CLASS:PUBLIC
DTSTART:20260425T090000
DTSTAMP:20260426T044155
END:VEVENT
END:VCALENDAR