BEGIN:VCALENDAR
VERSION:2.0
PRODID:http://www.infomax-online.de/imxeventmanager/
METHOD:PUBLISH
BEGIN:VTIMEZONE
TZID:Europe/Berlin
TZURL:http://tzurl.org/zoneinfo-outlook/Europe/Berlin
X-LIC-LOCATION:Europe/Berlin
END:VTIMEZONE
BEGIN:VEVENT
UID:69ed60e37f523
LOCATION:Bahnhofstr. 49, 83329 Waging
SUMMARY;ENCODING=QUOTED-PRINTABLE:Pubbines - DJ Abend
DESCRIPTION;ENCODING=QUOTED-PRINTABLE:DJ Abend mit JOE
URL;VALUE=URI:https://irs18whl.infomax.online/standard/e-pubbines-dj-abend?eventDateId=2072359&widgetToken=5oeXeoKIovU.&
CLASS:PUBLIC
DTSTART:20260502T200000
DTSTAMP:20260426T024835
END:VEVENT
END:VCALENDAR