BEGIN:VCALENDAR
VERSION:2.0
PRODID:http://www.infomax-online.de/imxeventmanager/
METHOD:PUBLISH
BEGIN:VTIMEZONE
TZID:Europe/Berlin
TZURL:http://tzurl.org/zoneinfo-outlook/Europe/Berlin
X-LIC-LOCATION:Europe/Berlin
END:VTIMEZONE
BEGIN:VEVENT
UID:69ead050c2180
LOCATION:Altenmarkter Str. 20, 83370 Seeon
SUMMARY;ENCODING=QUOTED-PRINTABLE:Vortrag "Michaelisches Zeitalter - Die heutige Menschheit vor dem=0D=0AZeitgewissen"
DESCRIPTION;ENCODING=QUOTED-PRINTABLE:Vortrag im Bürgertreff Seeon mit Sabine Wagner
URL;VALUE=URI:https://irs18whl.infomax.online/standard/e-vortrag-michaelisches-zeitalter-die-heutige-menschheit-vor-dem-zeitgewissen?eventDateId=2072323&widgetToken=5oeXeoKIovU.&
CLASS:PUBLIC
DTSTART:20260425T150000
DTSTAMP:20260424T040712
END:VEVENT
END:VCALENDAR