BEGIN:VCALENDAR
VERSION:2.0
PRODID:http://www.infomax-online.de/imxeventmanager/
METHOD:PUBLISH
BEGIN:VTIMEZONE
TZID:Europe/Berlin
TZURL:http://tzurl.org/zoneinfo-outlook/Europe/Berlin
X-LIC-LOCATION:Europe/Berlin
END:VTIMEZONE
BEGIN:VEVENT
UID:69eacff0a66c3
LOCATION:Altenmarkter Str. 20, 83370 Seeon
SUMMARY;ENCODING=QUOTED-PRINTABLE:Digitales Cafe in Seeon
DESCRIPTION;ENCODING=QUOTED-PRINTABLE:Hilfe für Handy/Tablett/Laptop. Info beim Quartiersmanagement unter=0D=0AInfo-Tel. 08667 888516.
URL;VALUE=URI:https://irs18whl.infomax.online/standard/e-digitales-cafe-seeon?eventDateId=2072320&widgetToken=5oeXeoKIovU.&
CLASS:PUBLIC
DTSTART:20260429T140000
DTSTAMP:20260424T040536
END:VEVENT
END:VCALENDAR