BEGIN:VCALENDAR
VERSION:2.0
PRODID:http://www.infomax-online.de/imxeventmanager/
METHOD:PUBLISH
BEGIN:VTIMEZONE
TZID:Europe/Berlin
TZURL:http://tzurl.org/zoneinfo-outlook/Europe/Berlin
X-LIC-LOCATION:Europe/Berlin
END:VTIMEZONE
BEGIN:VEVENT
UID:69ead02c139af
LOCATION:Altenmarkter Str. 20, 83370 Seeon
SUMMARY;ENCODING=QUOTED-PRINTABLE:Qi-Gong am Vormittag in Seeon
DESCRIPTION;ENCODING=QUOTED-PRINTABLE:Info & Anmeldung unter 08667/888516.
URL;VALUE=URI:https://irs18whl.infomax.online/standard/e-qi-gong-am-vormittag-in-seeon-2026?eventDateId=2072313&widgetToken=5oeXeoKIovU.&
CLASS:PUBLIC
DTSTART:20260427T100000
DTSTAMP:20260424T040636
END:VEVENT
END:VCALENDAR