BEGIN:VCALENDAR
VERSION:2.0
PRODID:http://www.infomax-online.de/imxeventmanager/
METHOD:PUBLISH
BEGIN:VTIMEZONE
TZID:Europe/Berlin
TZURL:http://tzurl.org/zoneinfo-outlook/Europe/Berlin
X-LIC-LOCATION:Europe/Berlin
END:VTIMEZONE
BEGIN:VEVENT
UID:69eacf6fd810b
LOCATION:Altenmarkter Str. 20, 83370 Seeon
SUMMARY;ENCODING=QUOTED-PRINTABLE:Beckenbodengymnastik in Seeon
DESCRIPTION;ENCODING=QUOTED-PRINTABLE:Neues Angebot im Bürgertreff Seeon. Fester Kurs, Anfragen und=0D=0AAnmeldung unter 0151 52900663. Teilnahme nur mit Anmeldung. Neuer Kurs=0D=0Astartet am 20.05.
URL;VALUE=URI:https://irs18whl.infomax.online/standard/e-beckenbodengymnastik-in-seeon?eventDateId=2072194&widgetToken=5oeXeoKIovU.&
CLASS:PUBLIC
DTSTART:20260429T160000
DTSTAMP:20260424T040327
END:VEVENT
END:VCALENDAR