BEGIN:VCALENDAR
VERSION:2.0
PRODID:http://www.infomax-online.de/imxeventmanager/
METHOD:PUBLISH
BEGIN:VTIMEZONE
TZID:Europe/Berlin
TZURL:http://tzurl.org/zoneinfo-outlook/Europe/Berlin
X-LIC-LOCATION:Europe/Berlin
END:VTIMEZONE
BEGIN:VEVENT
UID:69eacbb136d06
LOCATION:Altenmarkter Str. 20, 83370 Seeon
SUMMARY;ENCODING=QUOTED-PRINTABLE:Schafkopfübungsabend in Seeon
DESCRIPTION;ENCODING=QUOTED-PRINTABLE:immer Montags 17:30 Uhr im Bürgertreff Seeon. Info beim=0D=0AQuartiersmanagement unter Info-Tel. 08667 888516.
URL;VALUE=URI:https://irs18whl.infomax.online/standard/e-schafkopfuebungsabend-in-seeon?eventDateId=2072175&widgetToken=5oeXeoKIovU.&
CLASS:PUBLIC
DTSTART:20260427T173000
DTSTAMP:20260424T034729
END:VEVENT
END:VCALENDAR