BEGIN:VCALENDAR
VERSION:2.0
PRODID:http://www.infomax-online.de/imxeventmanager/
METHOD:PUBLISH
BEGIN:VTIMEZONE
TZID:Europe/Berlin
TZURL:http://tzurl.org/zoneinfo-outlook/Europe/Berlin
X-LIC-LOCATION:Europe/Berlin
END:VTIMEZONE
BEGIN:VEVENT
UID:69ead022c1be9
LOCATION:Seestraße 2, 83370 Seeon
SUMMARY;ENCODING=QUOTED-PRINTABLE:Spielenachmittag in Seeon
DESCRIPTION;ENCODING=QUOTED-PRINTABLE:für Erwachsene im Le Petit Cafe.
URL;VALUE=URI:https://irs18whl.infomax.online/standard/e-spielenachmittag-le-petit?eventDateId=2072121&widgetToken=5oeXeoKIovU.&
CLASS:PUBLIC
DTSTART:20260424T140000
DTSTAMP:20260424T040626
END:VEVENT
END:VCALENDAR