BEGIN:VCALENDAR
VERSION:2.0
PRODID:http://www.infomax-online.de/imxeventmanager/
METHOD:PUBLISH
BEGIN:VTIMEZONE
TZID:Europe/Berlin
TZURL:http://tzurl.org/zoneinfo-outlook/Europe/Berlin
X-LIC-LOCATION:Europe/Berlin
END:VTIMEZONE
BEGIN:VEVENT
UID:69eaa6245f67b
LOCATION:Altenmarkter Str. 20, 83370 Seeon
SUMMARY;ENCODING=QUOTED-PRINTABLE:Yoga im Sitzen in Seeon
DESCRIPTION;ENCODING=QUOTED-PRINTABLE:Info beim Quartiersmanagement unter Info-Tel. 08667 888516.
URL;VALUE=URI:https://irs18whl.infomax.online/standard/e-yoga-im-sitzen-in-seeon?eventDateId=2072074&widgetToken=5oeXeoKIovU.&
CLASS:PUBLIC
DTSTART:20260423T160000
DTSTAMP:20260424T010716
END:VEVENT
END:VCALENDAR