BEGIN:VCALENDAR
VERSION:2.0
PRODID:http://www.infomax-online.de/imxeventmanager/
METHOD:PUBLISH
BEGIN:VTIMEZONE
TZID:Europe/Berlin
TZURL:http://tzurl.org/zoneinfo-outlook/Europe/Berlin
X-LIC-LOCATION:Europe/Berlin
END:VTIMEZONE
BEGIN:VEVENT
UID:69e7db9ad39c2
LOCATION:Vonfichtstraße 1, 83278 Traunstein
SUMMARY;ENCODING=QUOTED-PRINTABLE:Wohin werden wir gegangen sein?
DESCRIPTION;ENCODING=QUOTED-PRINTABLE:Eine Rauminszenierung/Ausstellung von Helmut Mühlbacher (Traunstein)=0D=0Ain der neu geschaffenen KunstBOX auf dem Dachgarten des Lehmhauses am=0D=0ACampus St. Michael. Eintritt frei! Der Künstler ist anwesend und=0D=0Asteht für Frage und Antwort Verfügung.
URL;VALUE=URI:https://irs18whl.infomax.online/standard/e-wohin-werden-wir-gegangen-sein?eventDateId=2072037&widgetToken=5oeXeoKIovU.&
CLASS:PUBLIC
DTSTART:20260512T190000
DTSTAMP:20260421T221834
END:VEVENT
END:VCALENDAR