BEGIN:VCALENDAR
VERSION:2.0
PRODID:http://www.infomax-online.de/imxeventmanager/
METHOD:PUBLISH
BEGIN:VTIMEZONE
TZID:Europe/Berlin
TZURL:http://tzurl.org/zoneinfo-outlook/Europe/Berlin
X-LIC-LOCATION:Europe/Berlin
END:VTIMEZONE
BEGIN:VEVENT
UID:69eae2c553509
LOCATION:Schützing 1, 83339 Chieming
SUMMARY;ENCODING=QUOTED-PRINTABLE:Qi Gong - Mit einer kraftvollen Mitte in den Tag
DESCRIPTION;ENCODING=QUOTED-PRINTABLE:Am Urlaubshof Kirchmaier habt Ihr die Möglichkeit Qi Gong kennen zu=0D=0Alernen! Qi Gong ist eine uralte chinesische Bewegungsform, die den=0D=0AFluss der Lebensenergie, das sogenannte Qi, reguliert und=0D=0Aharmonisiert. Qi Gong ist eine wunderbare Methode Achtsamkeit,=0D=0ADankbarkeit, inneren Frieden, Zuversicht und Freude in den Alltag zu=0D=0Abringen. Durch die Bewegungsformen werden die Faszien und damit die=0D=0Akörperliche Stabilität und Beweglichkeit gekräftigt. Wo: Urlaubshof=0D=0AKirchmaier, Schützing 1, 83339 Chieming Wann: Immer Freitag 9-10:15=0D=0AUhr Kosten: 10,- € je Einheit; 10-er Karte 90,- € Mitzubringen:=0D=0ABequeme Kleidung, Turnmatte (wenn vorhanden), Getränk Anmeldung: bis=0D=0Azum Vorabend 18 Uhr per Telefon: 08664-410 oder per E-Mail=0D=0Ainfo@urlaubshof-kirchmaier.de
URL;VALUE=URI:https://irs18whl.infomax.online/standard/e-qi-gong-mit-einer-kraftvollen-mitte-in-den-tag?eventDateId=2071767&widgetToken=5oeXeoKIovU.&
CLASS:PUBLIC
DTSTART:20260424T090000
DTSTAMP:20260424T052557
END:VEVENT
END:VCALENDAR