BEGIN:VCALENDAR
VERSION:2.0
PRODID:http://www.infomax-online.de/imxeventmanager/
METHOD:PUBLISH
BEGIN:VTIMEZONE
TZID:Europe/Berlin
TZURL:http://tzurl.org/zoneinfo-outlook/Europe/Berlin
X-LIC-LOCATION:Europe/Berlin
END:VTIMEZONE
BEGIN:VEVENT
UID:69e794d86bb83
LOCATION:Wilhelm-Scharnow-Straße , 83329 Waging am See
SUMMARY;ENCODING=QUOTED-PRINTABLE:Nordic Walking Waging
DESCRIPTION;ENCODING=QUOTED-PRINTABLE:Nordic Walking des TSV Waging
URL;VALUE=URI:https://irs18whl.infomax.online/standard/e-nordic-walking?eventDateId=2071488&widgetToken=5oeXeoKIovU.&
CLASS:PUBLIC
DTSTART:20260427T193000
DTSTAMP:20260421T171640
END:VEVENT
END:VCALENDAR