BEGIN:VCALENDAR
VERSION:2.0
PRODID:http://www.infomax-online.de/imxeventmanager/
METHOD:PUBLISH
BEGIN:VTIMEZONE
TZID:Europe/Berlin
TZURL:http://tzurl.org/zoneinfo-outlook/Europe/Berlin
X-LIC-LOCATION:Europe/Berlin
END:VTIMEZONE
BEGIN:VEVENT
UID:69e765674390b
LOCATION:Wilhelm-Scharnow-Straße , 83329 Waging am See
SUMMARY;ENCODING=QUOTED-PRINTABLE:Nordic Walking Waging
DESCRIPTION;ENCODING=QUOTED-PRINTABLE:Nordic Walking des TSV Waging
URL;VALUE=URI:https://irs18whl.infomax.online/standard/e-nordic-walking?eventDateId=2071462&widgetToken=5oeXeoKIovU.&
CLASS:PUBLIC
DTSTART:20260421T083000
DTSTAMP:20260421T135415
END:VEVENT
END:VCALENDAR