BEGIN:VCALENDAR
VERSION:2.0
PRODID:http://www.infomax-online.de/imxeventmanager/
METHOD:PUBLISH
BEGIN:VTIMEZONE
TZID:Europe/Berlin
TZURL:http://tzurl.org/zoneinfo-outlook/Europe/Berlin
X-LIC-LOCATION:Europe/Berlin
END:VTIMEZONE
BEGIN:VEVENT
UID:69e79485afe78
LOCATION:Wilhelm-Scharnow-Straße , 83329 Waging am See
SUMMARY;ENCODING=QUOTED-PRINTABLE:Lauftreff Waging
DESCRIPTION;ENCODING=QUOTED-PRINTABLE:Lauftreff des TSV Waging
URL;VALUE=URI:https://irs18whl.infomax.online/standard/e-lauftreff-waging?eventDateId=2070751&widgetToken=5oeXeoKIovU.&
CLASS:PUBLIC
DTSTART:20260427T193000
DTSTAMP:20260421T171517
END:VEVENT
END:VCALENDAR