BEGIN:VCALENDAR
VERSION:2.0
PRODID:http://www.infomax-online.de/imxeventmanager/
METHOD:PUBLISH
BEGIN:VTIMEZONE
TZID:Europe/Berlin
TZURL:http://tzurl.org/zoneinfo-outlook/Europe/Berlin
X-LIC-LOCATION:Europe/Berlin
END:VTIMEZONE
BEGIN:VEVENT
UID:69ed2e2db6d77
LOCATION:Rupertistraße 1, 83379 St. Leonhard am Wonneberg
SUMMARY;ENCODING=QUOTED-PRINTABLE:Benefizparty
DESCRIPTION;ENCODING=QUOTED-PRINTABLE:Benefizparty für Tanja - Gemeinsam helfen - gemeinsam feiern
URL;VALUE=URI:https://irs18whl.infomax.online/standard/e-benefizparty?eventDateId=2070732&widgetToken=5oeXeoKIovU.&
CLASS:PUBLIC
DTSTART:20260425T193000
DTSTAMP:20260425T231213
END:VEVENT
END:VCALENDAR