BEGIN:VCALENDAR
VERSION:2.0
PRODID:http://www.infomax-online.de/imxeventmanager/
METHOD:PUBLISH
BEGIN:VTIMEZONE
TZID:Europe/Berlin
TZURL:http://tzurl.org/zoneinfo-outlook/Europe/Berlin
X-LIC-LOCATION:Europe/Berlin
END:VTIMEZONE
BEGIN:VEVENT
UID:69e7edc0c0b82
LOCATION:Haywards-Heath-Weg 1, 83278 Traunstein
SUMMARY;ENCODING=QUOTED-PRINTABLE:19. Slow Roll
DESCRIPTION;ENCODING=QUOTED-PRINTABLE:Gemütliche Rundfahrt für kleine und große Radler*innen auf=0D=0Aabgesicherter Strecke. Für sichere Radwege und ein=0D=0Afahrradfreundliches Traunstein. Bei jeder Witterung. Nach der=0D=0Agemütlichen Rundfahrt durch die Innenstadt laden TBC und ADFC=0D=0ATraunstein zu einem gemütlichen Picknick im Stadtpark ein, inkl.=0D=0AMini-Parcours für kleine Radfans.
URL;VALUE=URI:https://irs18whl.infomax.online/standard/e-19-slow-roll?eventDateId=2070654&widgetToken=5oeXeoKIovU.&
CLASS:PUBLIC
DTSTART:20260509T100000
DTSTAMP:20260421T233600
END:VEVENT
END:VCALENDAR