BEGIN:VCALENDAR
VERSION:2.0
PRODID:http://www.infomax-online.de/imxeventmanager/
METHOD:PUBLISH
BEGIN:VTIMEZONE
TZID:Europe/Berlin
TZURL:http://tzurl.org/zoneinfo-outlook/Europe/Berlin
X-LIC-LOCATION:Europe/Berlin
END:VTIMEZONE
BEGIN:VEVENT
UID:69ea9191036f9
LOCATION:Hauptstr. 34, 83367 Petting
SUMMARY;ENCODING=QUOTED-PRINTABLE:Vortrag: Vorsorge statt Sorge
DESCRIPTION;ENCODING=QUOTED-PRINTABLE:"Vollmacht, Ehegattennotvertretung, Betreuung und Patientenverfügung"=0D=0Asind die Themen eines Vortrages unter dem Motto "Vorsorge statt Sorge"
URL;VALUE=URI:https://irs18whl.infomax.online/standard/e-vortrag-vorsorge-statt-sorge?eventDateId=2070596&widgetToken=5oeXeoKIovU.&
CLASS:PUBLIC
DTSTART:20260429T190000
DTSTAMP:20260423T233929
END:VEVENT
END:VCALENDAR