BEGIN:VCALENDAR
VERSION:2.0
PRODID:http://www.infomax-online.de/imxeventmanager/
METHOD:PUBLISH
BEGIN:VTIMEZONE
TZID:Europe/Berlin
TZURL:http://tzurl.org/zoneinfo-outlook/Europe/Berlin
X-LIC-LOCATION:Europe/Berlin
END:VTIMEZONE
BEGIN:VEVENT
UID:69ea619e980c1
LOCATION:Dorfstr. 35, 83236 Übersee
SUMMARY;ENCODING=QUOTED-PRINTABLE:"Gefangen im Chiemgau" - Schicksal des Kriegs
DESCRIPTION;ENCODING=QUOTED-PRINTABLE:60 Postkarten berichten über eine fesselnde Geschichte des 1.=0D=0AWeltkrieges. Erkundet und erzählt von Gustl Lex
URL;VALUE=URI:https://irs18whl.infomax.online/standard/e-gefangen-im-chiemgau-schicksal-des-kriegs?eventDateId=2070452&widgetToken=5oeXeoKIovU.&
CLASS:PUBLIC
DTSTART:20260424T193000
DTSTAMP:20260423T201454
END:VEVENT
END:VCALENDAR