BEGIN:VCALENDAR
VERSION:2.0
PRODID:http://www.infomax-online.de/imxeventmanager/
METHOD:PUBLISH
BEGIN:VTIMEZONE
TZID:Europe/Berlin
TZURL:http://tzurl.org/zoneinfo-outlook/Europe/Berlin
X-LIC-LOCATION:Europe/Berlin
END:VTIMEZONE
BEGIN:VEVENT
UID:69eaa93a08f3a
LOCATION:Chiemseestr. 9, 83242 Reit im Winkl
SUMMARY;ENCODING=QUOTED-PRINTABLE:Flow & Relax mit Alpenhypno
DESCRIPTION;ENCODING=QUOTED-PRINTABLE:Freu Dich auf eine entspannte Stunde, die zu Deiner inneren=0D=0ARegeneration und Deinem Wohlbefinden beiträgt: wir flowen durch eine=0D=0Aleichte Yoga-Sequenz und bleiben ganz bei unserem Atem. Abschließend=0D=0Asorgt eine angenehme Schlussentspannung für Dein Rundum-Wohlbefinden.=0D=0ADer Kurs ist immer den Teilnehmern angepasst. Anmeldung bis zum=0D=0AVorabend unter: 0171-3521771 oder info@alpenhypno.de
URL;VALUE=URI:https://irs18whl.infomax.online/standard/e-flow-relax-mit-alpenhypno?eventDateId=2070027&widgetToken=5oeXeoKIovU.&
CLASS:PUBLIC
DTSTART:20260430T160000
DTSTAMP:20260424T012026
END:VEVENT
END:VCALENDAR