BEGIN:VCALENDAR
VERSION:2.0
PRODID:http://www.infomax-online.de/imxeventmanager/
METHOD:PUBLISH
BEGIN:VTIMEZONE
TZID:Europe/Berlin
TZURL:http://tzurl.org/zoneinfo-outlook/Europe/Berlin
X-LIC-LOCATION:Europe/Berlin
END:VTIMEZONE
BEGIN:VEVENT
UID:69ed465a66fae
LOCATION:Brander Straße 3, 83324 Ruhpolding
SUMMARY;ENCODING=QUOTED-PRINTABLE:Bussi Party in der Eishalle
DESCRIPTION;ENCODING=QUOTED-PRINTABLE:Erlebt gemeinsam mit der Rauschberg-Pass eine unvergessliche Nacht!
URL;VALUE=URI:https://irs18whl.infomax.online/standard/e-bussi-party-in-der-eishalle?eventDateId=2069697&widgetToken=5oeXeoKIovU.&
CLASS:PUBLIC
DTSTART:20260425T190000
DTSTAMP:20260426T005522
END:VEVENT
END:VCALENDAR