BEGIN:VCALENDAR
VERSION:2.0
PRODID:http://www.infomax-online.de/imxeventmanager/
METHOD:PUBLISH
BEGIN:VTIMEZONE
TZID:Europe/Berlin
TZURL:http://tzurl.org/zoneinfo-outlook/Europe/Berlin
X-LIC-LOCATION:Europe/Berlin
END:VTIMEZONE
BEGIN:VEVENT
UID:69eaa9632d028
LOCATION:Angerpoint 1, 83329 Waging am See
SUMMARY;ENCODING=QUOTED-PRINTABLE:Kräuterwanderung
DESCRIPTION;ENCODING=QUOTED-PRINTABLE:mit Gabi Fietz-Bohleber am Hotel Eichenhof
URL;VALUE=URI:https://irs18whl.infomax.online/standard/e-kraeuterwanderung-in-weibhausen?eventDateId=2067626&widgetToken=5oeXeoKIovU.&
CLASS:PUBLIC
DTSTART:20260423T150000
DTSTAMP:20260424T012107
END:VEVENT
END:VCALENDAR