BEGIN:VCALENDAR
VERSION:2.0
PRODID:http://www.infomax-online.de/imxeventmanager/
METHOD:PUBLISH
BEGIN:VTIMEZONE
TZID:Europe/Berlin
TZURL:http://tzurl.org/zoneinfo-outlook/Europe/Berlin
X-LIC-LOCATION:Europe/Berlin
END:VTIMEZONE
BEGIN:VEVENT
UID:69e8b8eb7c812
LOCATION:Altenmarkter Str. 10, 83370 Seeon
SUMMARY;ENCODING=QUOTED-PRINTABLE:Ausflug zu den Adelholzener Alpenquellen des Seniorenclub Seeon
DESCRIPTION;ENCODING=QUOTED-PRINTABLE:Alle Mit- & Nichtmitglieder sind herzlich zum Ausflug zu den=0D=0AAdelholzener Alpenquellen eingeladen. Dort findet eine Besichtigung=0D=0Ader Anlage statt. Eingekehrt wird dann in Ruhpolding ins=0D=0A"Brothaus/Café Schuhbeck". Abfahrt ist um 12 Uhr beim Alten Wirt in=0D=0ASeeon. Anmeldung bei Traudl Gallinger-Koller unter Tel. 08624 829560.
URL;VALUE=URI:https://irs18whl.infomax.online/standard/e-ausflug-adelholzen-des-seniorenclub-seeon?eventDateId=2067620&widgetToken=5oeXeoKIovU.&
CLASS:PUBLIC
DTSTART:20260422T120000
DTSTAMP:20260422T140251
END:VEVENT
END:VCALENDAR