BEGIN:VCALENDAR
VERSION:2.0
PRODID:http://www.infomax-online.de/imxeventmanager/
METHOD:PUBLISH
BEGIN:VTIMEZONE
TZID:Europe/Berlin
TZURL:http://tzurl.org/zoneinfo-outlook/Europe/Berlin
X-LIC-LOCATION:Europe/Berlin
END:VTIMEZONE
BEGIN:VEVENT
UID:69ea7d694c288
LOCATION:Hauptstraße 61, 83246 Unterwössen
SUMMARY;ENCODING=QUOTED-PRINTABLE:WissensTrip "Eisenreich im Rupertiwinkl"
DESCRIPTION;ENCODING=QUOTED-PRINTABLE:Das Bergbaumuseum "Eisenreich" in Achthal wurde überarbeitet und neu=0D=0Aeröffnet. Wir erhalten eine Spezialführung durch das Museum und=0D=0Atreffen uns abschließend im Wieninger Braugasthof. Anmeldung unter=0D=0ATel. 08641 6994390 oder E-Mail Treff@Woessner-Regenbogen.de.
URL;VALUE=URI:https://irs18whl.infomax.online/standard/e-zum-bergbauernmuseum-achthalteisendorf?eventDateId=2063602&widgetToken=5oeXeoKIovU.&
CLASS:PUBLIC
DTSTART:20260423T140000
DTSTAMP:20260423T221329
END:VEVENT
END:VCALENDAR