BEGIN:VCALENDAR
VERSION:2.0
PRODID:http://www.infomax-online.de/imxeventmanager/
METHOD:PUBLISH
BEGIN:VTIMEZONE
TZID:Europe/Berlin
TZURL:http://tzurl.org/zoneinfo-outlook/Europe/Berlin
X-LIC-LOCATION:Europe/Berlin
END:VTIMEZONE
BEGIN:VEVENT
UID:69e781c077601
LOCATION:Rathausplatz 7, 83301 Traunreut
SUMMARY;ENCODING=QUOTED-PRINTABLE:Treibholz trifft Blütenzauber – Kreativkurs für Kinder (ab 8=0D=0AJahren)
DESCRIPTION;ENCODING=QUOTED-PRINTABLE:Du liebst es, draußen Schätze zu sammeln und kreativ zu sein?=0D=0AGemeinsam gehen wir auf Schatzsuche in der Natur: Wir sammeln hübsche=0D=0ABlumen und cooles Treibholz.
URL;VALUE=URI:https://irs18whl.infomax.online/standard/e-treibholz-trifft-bluetenzauber-kreativkurs-fuer-kinder-ab-8-jahren-1?eventDateId=2062343&widgetToken=5oeXeoKIovU.&
CLASS:PUBLIC
DTSTART:20260425T143000
DTSTAMP:20260421T155512
END:VEVENT
END:VCALENDAR