BEGIN:VCALENDAR
VERSION:2.0
PRODID:http://www.infomax-online.de/imxeventmanager/
METHOD:PUBLISH
BEGIN:VTIMEZONE
TZID:Europe/Berlin
TZURL:http://tzurl.org/zoneinfo-outlook/Europe/Berlin
X-LIC-LOCATION:Europe/Berlin
END:VTIMEZONE
BEGIN:VEVENT
UID:69eaf94ee4140
LOCATION:Rathausplatz 5, 83334 Inzell
SUMMARY;ENCODING=QUOTED-PRINTABLE:Krimitour - Akte Falkenstein
DESCRIPTION;ENCODING=QUOTED-PRINTABLE:Die SOKO Falkenstein ermittelt.
URL;VALUE=URI:https://irs18whl.infomax.online/standard/e-krimitour-akte-falkenstein?eventDateId=2062047&widgetToken=5oeXeoKIovU.&
CLASS:PUBLIC
DTSTART:20260424T160000
DTSTAMP:20260424T070206
END:VEVENT
END:VCALENDAR